BEGIN:VCALENDAR
VERSION:2.0
PRODID:-//Noida Diary - Rediscover Noida With Us! - ECPv6.15.20//NONSGML v1.0//EN
CALSCALE:GREGORIAN
METHOD:PUBLISH
X-WR-CALNAME:Noida Diary - Rediscover Noida With Us!
X-ORIGINAL-URL:http://www.noidadiary.in
X-WR-CALDESC:Events for Noida Diary - Rediscover Noida With Us!
REFRESH-INTERVAL;VALUE=DURATION:PT1H
X-Robots-Tag:noindex
X-PUBLISHED-TTL:PT1H
BEGIN:VTIMEZONE
TZID:Asia/Kolkata
BEGIN:STANDARD
TZOFFSETFROM:+0530
TZOFFSETTO:+0530
TZNAME:IST
DTSTART:20150101T000000
END:STANDARD
END:VTIMEZONE
BEGIN:VEVENT
DTSTART;TZID=Asia/Kolkata:20230215T090000
DTEND;TZID=Asia/Kolkata:20230217T180000
DTSTAMP:20260424T222635
CREATED:20230224T074106Z
LAST-MODIFIED:20230224T074106Z
UID:7705-1676451600-1676656800@www.noidadiary.in
SUMMARY:11th Global Festival of Journalism Noida
DESCRIPTION:Global Festival of Journalism Noida in its eleventh edition to be organized from 15th to 17th February 2023 at Noida Film City. \nA series of events will be conducted on the sidelines at the 3-day festival. Inauguration of Animation Seminar and Animation Exhibition\, Art gallery\, Cultural programs\, Radio workshop for journalism & mass communication students and many other exciting programs are lined up. \nGlobal Festival of Journalism Noida is an event of the journalists\, for the journalist and by the journalists conducted at Marwah Studios every year.
URL:http://www.noidadiary.in/noida-event/11th-global-festival-of-journalism-noida/
LOCATION:Marwah Studios\, Film City\, Sector 16A\, Noida\, Uttar Pradesh\, 201301\, India
CATEGORIES:Education,Free Event,Literary Festival
ATTACH;FMTTYPE=image/png:http://www.noidadiary.in/wp-content/uploads/2023/02/image-4.png
END:VEVENT
BEGIN:VEVENT
DTSTART;TZID=Asia/Kolkata:20181101T080000
DTEND;TZID=Asia/Kolkata:20181125T170000
DTSTAMP:20260424T222635
CREATED:20180605T045312Z
LAST-MODIFIED:20180628T131009Z
UID:4409-1541059200-1543165200@www.noidadiary.in
SUMMARY:NYS Leadership League
DESCRIPTION:Next wave has entered\, which will create a SURGE of compassion amongst children\, the leaders of tomorrow. The children are already energetic and enterprising and we at NYS\, want to build on their Strength\, Understanding\, Responsibility\, Gratitude\, Empathy.This Year’s Topic – Social Entrepreneurship! Like our Army is working rigorously on the borders to protect the country and the well-being of the people\, we must work inside the country to protect the environment. NYS imbibes in children that spirit of nationalism filled with the spark to work for the welfare of the nation at their formative years. This year\, our focus is on the environment.This will be a Yearly hand-holding of the children and give them adequate guidance to perform.Also\, Independent entries are most welcome!\n\nNYS invites you to enroll in the Leadership Club!\n\n\n\nRequirement: Any child who is willing to build Leadership qualities and identify himself.\n\n\n\n\n\n\n\nCategory 1-  4th to 7th\nCategory 2 – 8th to 12th\n\n\nFees – 1800\nFees – 2500\n\n\n\n\nEnrollment confirms your direct Entry in NYS Leadership League-2018\n\n\n\n\n\nWhy Join the CLUB\n\nIdentify your Leadership Skills\nLearn about Social Entrepreneurship\nSave the Environment. Save the Planet.\nTo make the children aware of the Powers they possess and how they can make not only a huge difference but a colossal impact on the globe.\n\n\n\nWhat has to be done?\n\n\n\nStep 1 – Create an NYS Leadership Club in your School.\nStep 2 – Independent participation also welcome.\nStep 3 – Start working as per the Guidelines are given by Team NYS.\nStep 4 – Submit reports to NYS after finishing  Tasks & exhibiting Tasks done by each member.\nStep 5 – Earn Points according to the accomplished tasks.\nStep 6 – Higher points lead to higher chances of winning.\n\n\n\n\nThe Leadership League is a national level competition which will occur in November. \n\n\nThe registrations are open now.\nThe students are given multiple tasks online\, which they will have to submit on our website.\nSo the starting date is perfect and the Last date of registrations will  be 30th October 2018\n\n\nTo Create History\, Contact now.\nAddress:  Nurturing Young Seeds\nFC 9\, Film City\, Sector 16-A\, Noida\, 201301\, Uttar Pradesh\, INDIA.\n\n \nEmail: info@nurturing-seeds.com\nPhone: +91- 97111 32049\n\n\n\n\n\n\n  \n\nHit the Subscribe Button for more Noida Events.\nNoida Diary – Rediscover Noida With Us\n \nGet the latest Updates. Check the Noida Events Calendar\nYou can see the list of this month’s events here.\nFollow us on\n \n 
URL:http://www.noidadiary.in/noida-event/nys-leadership-league/
LOCATION:Uttar Pradesh
CATEGORIES:Education,Kids,Workshop
ATTACH;FMTTYPE=image/jpeg:http://www.noidadiary.in/wp-content/uploads/2017/05/Summer-Camps.jpg
END:VEVENT
BEGIN:VEVENT
DTSTART;TZID=Asia/Kolkata:20180927T090000
DTEND;TZID=Asia/Kolkata:20180928T180000
DTSTAMP:20260424T222635
CREATED:20180518T084229Z
LAST-MODIFIED:20180518T084229Z
UID:4288-1538038800-1538157600@www.noidadiary.in
SUMMARY:Engine 2018
DESCRIPTION:Welcome to the International Conference on “Engineering Innovation and Numerical Excellence – Engine 2018 organized by Amity Institute of Aerospace Engineering\, Amity University Uttar Pradesh\, India. It aims to bring together the Academicians\, Industry experts\, Scientists and budding students across the globe together in a single platform where we can learn from the expertise of each other. It’s going to be one of the unique international conferences where interdisciplinary research will be given an utmost importance. Broadly\, different aspects of engineering problems from Aerospace\, Mechanical\, Artificial Intelligence\, Green Energy\, Mathematical simulation and optimization techniques and Software based engineering will be addressed and the latest development in the respective fields will be presented and discussed. Moreover\, the emphasis on integrating the pure and applied mathematicians with the advanced engineering experts is the important aspect of this conference. It will be a step towards a new era of enhanced knowledge\, par excellence\, and self-reliance. The program aims to motivate our youths towards research and innovation along with empowering them to explore the modern day engineering challenges posed by core and interdisciplinary research areas. \nTHEME OF THE CONFERENCE\nPromoting Innovation and Research in Multidisciplinary engineering for Self Reliance \n  \nSCOPE AND OBJECTIVE\nThe objective of ENGINE-2018 is participation from Academia\, Research Organization and industry in the following ways:- \n\nTechnical Sessions\nIndustry Forum\nKeynote Speeches\, Invited and Submitted papers\nPoster Session\n\nPUBLICATION\nSelected good quality papers will be published in Scopus Indexed Journals \n  \nYou Might Find Useful:\nThings to do in Noida (Read on Blog)  \nUpcoming Events in Noida (Facebook) \n  \nNoida Diary – Rediscover Noida With Us\n \nGet the latest Updates. Check the Noida Events Calendar\nYou can see the list of this month’s events here.\nFollow us on\n \n 
URL:http://www.noidadiary.in/noida-event/engine-2018/
LOCATION:Amity University\, Sector 125\, Noida\, Uttar Pradesh\, 201303\, India
CATEGORIES:Education,Workshop
ATTACH;FMTTYPE=image/jpeg:http://www.noidadiary.in/wp-content/uploads/2017/08/upcoming_events.jpg
END:VEVENT
BEGIN:VEVENT
DTSTART;TZID=Asia/Kolkata:20180913T080000
DTEND;TZID=Asia/Kolkata:20180915T210000
DTSTAMP:20260424T222635
CREATED:20180918T024009Z
LAST-MODIFIED:20180918T024009Z
UID:4910-1536825600-1537045200@www.noidadiary.in
SUMMARY:4th Global Literary Festival
DESCRIPTION:4th Global Literary Festival Noida will be starting from 13th September 2018 . A three days event to be held from 13th September to 15th September 2018 at Marwah Studios\, Film City\, Noida. its presents International chamber of media and entertainment industry and Asian Academy of Arts. Sandeep Marwah is the president of Global Literary Festival Noida. \nFor More on 4th Global Literary Festival Details Contact\nPhone : 01204831143\, +91-9582751074\nEmail: info@glfnoida.org \nVENUE\nMarwah Studios\, FC 14/15\, Sector 16A\, Film City\, Sector 16A\, Noida \n  \nYou Might Find Useful:\nThings to do in Noida (Read on Blog) \nUpcoming Events in Noida (Facebook) \n  \nFor more information on Noida\, do hit the “Subscribe” button.\nNoida Diary – Rediscover Noida With Us\n \nGet the latest Updates. Check the Noida Events Calendar\nYou can see the list of this month’s events here.\nFollow us on\n \n 
URL:http://www.noidadiary.in/noida-event/4th-global-literary-festival/
LOCATION:Marwah Studios\, Film City\, Sector 16A\, Noida\, Uttar Pradesh\, 201301\, India
CATEGORIES:Education,Exhibitions,Literary Festival,Workshop
ATTACH;FMTTYPE=image/jpeg:http://www.noidadiary.in/wp-content/uploads/2016/09/Global-Literary-festival.jpg
END:VEVENT
BEGIN:VEVENT
DTSTART;TZID=Asia/Kolkata:20180626T080000
DTEND;TZID=Asia/Kolkata:20180720T170000
DTSTAMP:20260424T222635
CREATED:20180605T044315Z
LAST-MODIFIED:20180628T131129Z
UID:4407-1530000000-1532106000@www.noidadiary.in
SUMMARY:It's Our Showtime
DESCRIPTION:Batch 1: 5th-8th June; Batch 2: 26th- 29th June\nDuration – 4 Days\nCost – 6500 (Including GST)\nVenue – NYS –  Zee Studios\, Film City\, Noida \nSchedule for the program \n1st visit:  Zee Studios for Communication class & Personality development\n2nd Visit:  Assignments & Assessment\, Visit to Zee media studios\, PCR room.\n3rd Visit:  Assignments & Assessment\, visit for live anchoring session\, Practice session for your own spotlight-anchor link.\n4th Visit:  Culmination of Program – Formation of Anchor Links at ZEE Studios & Dish TV Broadcasting Tour. \n  \nTo Create History\, Contact Us now. \nAddress:  Nurturing Young Seeds\n\nFC 9\, Film City\, Sector 16-A\, Noida\, 201301\, Uttar Pradesh\, INDIA.\n\n \nEmail: info@nurturing-seeds.com\nPhone: +91- 97111 32049\n\n  \n\n\nHit the Subscribe Button for more Noida Events\nNoida Diary – Rediscover Noida With Us\n \nGet the latest Updates. Check the Noida Events Calendar\nYou can see the list of this month’s events here.\nFollow us on\n \n \n\n\n\n\n\n\n\n\n\n\n\n 
URL:http://www.noidadiary.in/noida-event/its-our-showtime/
LOCATION:Uttar Pradesh
CATEGORIES:Education,Kids,Workshop
ATTACH;FMTTYPE=image/jpeg:http://www.noidadiary.in/wp-content/uploads/2017/05/Summer-Camps.jpg
END:VEVENT
BEGIN:VEVENT
DTSTART;TZID=Asia/Kolkata:20180623T090000
DTEND;TZID=Asia/Kolkata:20180624T170000
DTSTAMP:20260424T222635
CREATED:20180530T125600Z
LAST-MODIFIED:20180530T125701Z
UID:4321-1529744400-1529859600@www.noidadiary.in
SUMMARY:3D Animation Workshop by G.Y.A.N Classes
DESCRIPTION:Can you make people laugh?\nCan you tell a tale?\nDo you think out of the box?\nDo you know how to bend the rules and get away with it?\n\nThen this workshop is a perfect fit for you.\n\n\nJoin the upcoming 3D Animation Workshop by G.Y.A.N Classes using AutoDesk MAYA in Noida on 23-24 June 2018. \n\nTo register fill the form below:\nhttps://goo.gl/forms/TYR5n75VTGJcYS1D2\n\n\n\nG.Y.A.N. Classes — Get Yourself a Niche – G.Y.AN. Classes provides short duration career-oriented development courses which can be directly added to your resume such as SketchUp\, Android application development\, Advanced Excel among others.\n\n\n\nDATE AND TIME – Sat\, Jun 23\, 2018\, 9:00 AM – Sun\, Jun 24\, 2018\, 5:00 PM  \n\nLOCATION –Sector 18\, Noida  \n  \nYou Might Find Useful:\nThings to do in Noida (Read on Blog)  \nUpcoming Events in Noida (Facebook) \n  \nNoida Diary – Rediscover Noida With Us\n \nGet the latest Updates. Check the Noida Events Calendar\nYou can see the list of this month’s events here.\nFollow us on\n \n 
URL:http://www.noidadiary.in/noida-event/3d-animation-workshop-by-g-y-a-n-classes/
LOCATION:Uttar Pradesh
CATEGORIES:Education,Workshop
ATTACH;FMTTYPE=image/jpeg:http://www.noidadiary.in/wp-content/uploads/2017/08/upcoming_events.jpg
END:VEVENT
BEGIN:VEVENT
DTSTART;TZID=Asia/Kolkata:20171112T090000
DTEND;TZID=Asia/Kolkata:20171112T170000
DTSTAMP:20260424T222635
CREATED:20171106T135526Z
LAST-MODIFIED:20171107T140801Z
UID:3716-1510477200-1510506000@www.noidadiary.in
SUMMARY:TEDx Shiv Nadar University 2017
DESCRIPTION:TEDxShivNadarUniversity is a non-profit\, licensed event by TED and created in the spirit of a TED conference and it’s mission: Ideas worth spreading. TEDx Shiv Nadar University 2017 is not just an event but a platform that facilitates exchange of pioneering ideas and unconventional experiences. Its very nature of bringing together minds that can envision a better world is what makes it a spectacle of its own accord. It will be a day long conference aiming to inspire speakers and attendees alike through the day and long after.
URL:http://www.noidadiary.in/noida-event/tedx-shiv-nadar-university-2017/
LOCATION:Shiv Nadar Universiity\, NH91\, Tehsil Dadri\, Gautam Buddha Nagar\, Greater Noida\, Uttar Pradesh\, 201314
CATEGORIES:Education
ATTACH;FMTTYPE=image/png:http://www.noidadiary.in/wp-content/uploads/2017/11/TEDx-Shiv-Nadar-University.png
END:VEVENT
BEGIN:VEVENT
DTSTART;TZID=Asia/Kolkata:20170406T080000
DTEND;TZID=Asia/Kolkata:20170407T200000
DTSTAMP:20260424T222635
CREATED:20170323T154212Z
LAST-MODIFIED:20170330T155053Z
UID:2664-1491465600-1491595200@www.noidadiary.in
SUMMARY:CONSTRUCTO 17
DESCRIPTION:Civil Engineering Society of Sharda University is organizing CONSTRUCTO’17\, a Civil engineering bonanza to involve the exuberance of youth in the field of Civil Engineering. Constructo’17 is going to be a two day fest on dates 6th April & 7th April of 2017 with lots of events to measure the technical as well as practical approach of students\, along with civil engineering workshop \, Civil engineering national level Expo\, seminar series and speakers from various parts of the country to be a part of our fest. \nVENUE \n\n\nStudent Activity Center\, CESSU cabin\, Dept. of Civil Engineering\, Sharada University\, Plot no. 32-34 Knowledge Park III\n201306 Greater Noida\n\n\n\n\n099904 42634
URL:http://www.noidadiary.in/noida-event/constructo-17/
LOCATION:Sharda University\,  Plot no. 32-34 Knowledge Park III\, Greater Noida\, Uttar Pradesh\, 201306\, India
CATEGORIES:Education
ATTACH;FMTTYPE=image/jpeg:http://www.noidadiary.in/wp-content/uploads/2017/03/COnstructo-17.jpg
END:VEVENT
BEGIN:VEVENT
DTSTART;TZID=Asia/Kolkata:20160929T100000
DTEND;TZID=Asia/Kolkata:20160929T150000
DTSTAMP:20260424T222635
CREATED:20160929T043000Z
LAST-MODIFIED:20170211T015306Z
UID:1729-1475143200-1475161200@www.noidadiary.in
SUMMARY:TEDx Amity University | Blending Vision
DESCRIPTION:At TEDx Amity University event\, TEDTalks video and live speakers will combine to spark deep discussion and connection in a small group.  \nNewton. Keats. Edison. Graham Bell. Picasso. Not just names but ideas spread throughout the pages of history. With an impressive line up of 10 speakers and 3 performers\, experience TEDx Amity University\, blending vision into a day long event jam-packed with insane fun and food for thought and lots more. \nThis year’s theme\, Blending vision aims to spread ideas unheard of before and break notions and stereotypes which will at the end of the day culminate into allowing an individual to create their own identity and empower them to strengthen the vision of their personal and professional identities. \nStay updated at www.tedxamityuniversity.com
URL:http://www.noidadiary.in/noida-event/1729/
LOCATION:Amity University\, Sector 125\, Noida\, Uttar Pradesh\, 201303\, India
CATEGORIES:Education
ATTACH;FMTTYPE=image/png:http://www.noidadiary.in/wp-content/uploads/2016/09/TedX-Amity.png
END:VEVENT
END:VCALENDAR