BEGIN:VCALENDAR
VERSION:2.0
PRODID:-//Noida Diary - Rediscover Noida With Us! - ECPv6.15.20//NONSGML v1.0//EN
CALSCALE:GREGORIAN
METHOD:PUBLISH
X-WR-CALNAME:Noida Diary - Rediscover Noida With Us!
X-ORIGINAL-URL:http://www.noidadiary.in
X-WR-CALDESC:Events for Noida Diary - Rediscover Noida With Us!
REFRESH-INTERVAL;VALUE=DURATION:PT1H
X-Robots-Tag:noindex
X-PUBLISHED-TTL:PT1H
BEGIN:VTIMEZONE
TZID:Asia/Kolkata
BEGIN:STANDARD
TZOFFSETFROM:+0530
TZOFFSETTO:+0530
TZNAME:IST
DTSTART:20240101T000000
END:STANDARD
END:VTIMEZONE
BEGIN:VEVENT
DTSTART;TZID=Asia/Kolkata:20250130T120000
DTEND;TZID=Asia/Kolkata:20250212T210000
DTSTAMP:20260424T195649
CREATED:20250206T094502Z
LAST-MODIFIED:20250206T100029Z
UID:8820-1738238400-1739394000@www.noidadiary.in
SUMMARY:Spring Festival 2025 at Noida Haat
DESCRIPTION:Spring Festival hosted by Noida Haat offers you the best of handcrafted items – the real art from home decor to beautiful apparel. Pick exclusive hand painted artefacts to add to your exquisite collections. The event has a big plus for foodies offering the multiple taste of India at Indian Food Court.\n\nSpring Festival – 30 Jan – 12 Feb 2025Location – Noida Haat\, Sec 33 A\, noida City Centre\, Noida.NO ENTRY FEES! \n  \n  \n 
URL:http://www.noidadiary.in/noida-event/spring-festival-2025-noida-haat/
LOCATION:Noida Haat\, Sector 33A\, Behind Isckon Temple\, Noida\, UP\, 201301\, India
CATEGORIES:Exhibitions,Free Event
ATTACH;FMTTYPE=image/jpeg:http://www.noidadiary.in/wp-content/uploads/2025/02/Spring-Fest-2025.jpeg
END:VEVENT
END:VCALENDAR