BEGIN:VCALENDAR
VERSION:2.0
PRODID:-//Noida Diary - Rediscover Noida With Us! - ECPv6.15.20//NONSGML v1.0//EN
CALSCALE:GREGORIAN
METHOD:PUBLISH
X-WR-CALNAME:Noida Diary - Rediscover Noida With Us!
X-ORIGINAL-URL:http://www.noidadiary.in
X-WR-CALDESC:Events for Noida Diary - Rediscover Noida With Us!
REFRESH-INTERVAL;VALUE=DURATION:PT1H
X-Robots-Tag:noindex
X-PUBLISHED-TTL:PT1H
BEGIN:VTIMEZONE
TZID:Asia/Kolkata
BEGIN:STANDARD
TZOFFSETFROM:+0530
TZOFFSETTO:+0530
TZNAME:IST
DTSTART:20240101T000000
END:STANDARD
END:VTIMEZONE
BEGIN:VEVENT
DTSTART;TZID=Asia/Kolkata:20250328T110000
DTEND;TZID=Asia/Kolkata:20250328T200000
DTSTAMP:20260424T185217
CREATED:20250327T122154Z
LAST-MODIFIED:20250327T122154Z
UID:8962-1743159600-1743192000@www.noidadiary.in
SUMMARY:Sprinng: Fashion and Lifestyle Exhibition
DESCRIPTION:Step into spring with style! Join in for a day of fresh fashion\, vibrant trends\, and all the lifestyle inspiration you need to bloom this season at Adaantio India’s ‘Sprinng: Fashion and Lifestyle Exhibition’ \n 28th March\, 2024 \n Royal Park\, Sec-137\, Noida (Club House) \n 11am – 8pm
URL:http://www.noidadiary.in/noida-event/sprinng-fashion-and-lifestyle-exhibition/
LOCATION:Royal Park\, Sec-137\, Noida (Club House)\, oyal Park\, Sec-137\, Noida (Club House)\, Noida\, UP\, India
CATEGORIES:Lifestyle
ATTACH;FMTTYPE=image/png:http://www.noidadiary.in/wp-content/uploads/2025/03/image-3.png
END:VEVENT
END:VCALENDAR