BEGIN:VCALENDAR
VERSION:2.0
PRODID:-//Noida Diary - Rediscover Noida With Us! - ECPv6.15.20//NONSGML v1.0//EN
CALSCALE:GREGORIAN
METHOD:PUBLISH
X-ORIGINAL-URL:https://www.noidadiary.in
X-WR-CALDESC:Events for Noida Diary - Rediscover Noida With Us!
REFRESH-INTERVAL;VALUE=DURATION:PT1H
X-Robots-Tag:noindex
X-PUBLISHED-TTL:PT1H
BEGIN:VTIMEZONE
TZID:Asia/Kolkata
BEGIN:STANDARD
TZOFFSETFROM:+0530
TZOFFSETTO:+0530
TZNAME:IST
DTSTART:20160101T000000
END:STANDARD
END:VTIMEZONE
BEGIN:VEVENT
DTSTART;TZID=Asia/Kolkata:20170824T110000
DTEND;TZID=Asia/Kolkata:20170825T150000
DTSTAMP:20260421T014757
CREATED:20170818T054049Z
LAST-MODIFIED:20170826T055752Z
UID:3167-1503572400-1503673200@www.noidadiary.in
SUMMARY:Cyber Cell Inauguration
DESCRIPTION:Inauguration of Cyber Cell at Amity University Noida Campus hosted by CyberShrishti. Catch CyberShrishti on August 25 at Amity University Noida for the Inauguration of Cyber Security Cell. Mr Nitin Pandey \, Mr Deepak Kumar popularly known as D3 and Wing commander Mr. Vijay Menon will enlighten you all with their eminent knowledge in Cyber Security Domain. (Update) Mr Rakshit Tandon will be unable to attend due to some unforeseen circumstances. Join Cyber Cell Inauguration \nKeynote Speakers \n1.Mr Rakshit Tandon (Chairman A & R Info Security Solutions)\n2.Mr Nitin Pandey (Founder Hackers Day & NISS)\n3.Wing Commander Mr Vijay Menon \nCyberShrishti is a Non profitable community developed by College Graduates in order to create Awareness amongst Youth. Motive of this organization is to deliver sessions to students by great mentors and speakers so that we can create a Big community of Cyber Professionals and Enthusiast in Future.\nCyberShrishti work on the agenda of #EducationIsFree. So feel free to contact us to have a session in your College/School.Team CyberShrishti is being backed up by professionals like Mr Rakshit Tandon\, Mr.Ramandeep Singh\, Mr.Dev Jeet who are well known personalities field of Cyber Security. \nCyberShrishti is now official partner of National Information Security Summit 2017 which is going to be held at September Lucknow. \n 
URL:https://www.noidadiary.in/noida-event/cyber-cell-inaugration/
LOCATION:Amity University\, Sector 125\, Noida\, Uttar Pradesh\, 201303\, India
CATEGORIES:Inauguration
ATTACH;FMTTYPE=image/jpeg:https://www.noidadiary.in/wp-content/uploads/2017/08/upcoming_events.jpg
END:VEVENT
END:VCALENDAR